BEGIN:VCALENDAR
VERSION:2.0
PRODID:-//Chanson-Nette - ECPv4.6.11.1//NONSGML v1.0//EN
CALSCALE:GREGORIAN
METHOD:PUBLISH
X-WR-CALNAME:Chanson-Nette
X-ORIGINAL-URL:https://chanson-nette.de
X-WR-CALDESC:Veranstaltungen für Chanson-Nette
BEGIN:VEVENT
DTSTART;TZID=Europe/Berlin:20200208T200000
DTEND;TZID=Europe/Berlin:20200208T200000
DTSTAMP:20260423T162037
CREATED:20200116T104246Z
LAST-MODIFIED:20200116T104246Z
UID:1058-1581192000-1581192000@chanson-nette.de
SUMMARY:Voll uff Swing mit Chanson-Nette & Band
DESCRIPTION:
URL:https://chanson-nette.de/event/voll-uff-swing-mit-chanson-nette-band-7/
LOCATION:Das Loci Loft ist ein gemütlicher Musik-Club\, eine echte Neuentdeckung im Norden von Berlin!
CATEGORIES:Voll Uff Swing
END:VEVENT
END:VCALENDAR