BEGIN:VCALENDAR
VERSION:2.0
PRODID:-//Chanson-Nette - ECPv4.6.11.1//NONSGML v1.0//EN
CALSCALE:GREGORIAN
METHOD:PUBLISH
X-WR-CALNAME:Chanson-Nette
X-ORIGINAL-URL:https://chanson-nette.de
X-WR-CALDESC:Veranstaltungen für Chanson-Nette
BEGIN:VEVENT
DTSTART;TZID=Europe/Berlin:20200118T190000
DTEND;TZID=Europe/Berlin:20200118T190000
DTSTAMP:20260423T184800
CREATED:20190722T140256Z
LAST-MODIFIED:20190722T140256Z
UID:900-1579374000-1579374000@chanson-nette.de
SUMMARY:Voll uff Swing mit Chanson-Nette & Band
DESCRIPTION:
URL:https://chanson-nette.de/event/voll-uff-swing-mit-chanson-nette-band-4/
CATEGORIES:Voll Uff Swing
END:VEVENT
END:VCALENDAR