BEGIN:VCALENDAR
VERSION:2.0
PRODID:-//Chanson-Nette - ECPv4.6.11.1//NONSGML v1.0//EN
CALSCALE:GREGORIAN
METHOD:PUBLISH
X-WR-CALNAME:Chanson-Nette
X-ORIGINAL-URL:https://chanson-nette.de
X-WR-CALDESC:Veranstaltungen für Chanson-Nette
BEGIN:VEVENT
DTSTART;TZID=Europe/Berlin:20221118T200000
DTEND;TZID=Europe/Berlin:20221118T200000
DTSTAMP:20260422T090419
CREATED:20220714T213016Z
LAST-MODIFIED:20220714T213019Z
UID:1870-1668801600-1668801600@chanson-nette.de
SUMMARY:Süß und doof und ohne PortemonnaiePointiert & zeitlos\, verrückt\, verzaubernd\, lebensnah -die Friedrich Hollaender-Revue im Restaurant-Theater CharlottchenMit Chanson-Nette\, Henry Nandzik und Dirk Rave am Akkordeon
DESCRIPTION:
URL:https://chanson-nette.de/event/suess-und-doof-und-ohne-portemonnaiepointiert-zeitlos-verrueckt-verzaubernd-lebensnah-die-friedrich-hollaender-revue-im-restaurant-theater-charlottchenmit-chanson-nette-henry-nandzik-und-dirk-r/
LOCATION:Kartenreservierung\, noch rascher und einfacher: Es gibt einen eigenen Ticketshop auf meiner Website. Der Verkauf per Link läuft über die Kartenagentur „eventim“. Tickets für unsere Veranstaltungen im „Charlottchen“ können Sie im Shop zu jeder Zeit kaufen. Einfach die nachfolgenden Links für die jeweiligen Termine kopieren und ins Internet eingeben. Auf diese Weise gelangen Sie zum Ticketverkauf in meinem Shop. Hier ist der Link für "Süß und doof ..." am 18. November: https://www.eventim-light.com/de/a/5e6680be39e97d176ca5d135/e/631c7e0040c5b02f624aa06b/
CATEGORIES:Süß & Doof – und ohne Portemonnaie
END:VEVENT
END:VCALENDAR