BEGIN:VCALENDAR
VERSION:2.0
PRODID:-//Chanson-Nette - ECPv4.6.11.1//NONSGML v1.0//EN
CALSCALE:GREGORIAN
METHOD:PUBLISH
X-WR-CALNAME:Chanson-Nette
X-ORIGINAL-URL:https://chanson-nette.de
X-WR-CALDESC:Veranstaltungen für Chanson-Nette
BEGIN:VEVENT
DTSTART;TZID=Europe/Berlin:20220219T200000
DTEND;TZID=Europe/Berlin:20220219T200000
DTSTAMP:20260423T174459
CREATED:20220117T202151Z
LAST-MODIFIED:20220204T210231Z
UID:1682-1645300800-1645300800@chanson-nette.de
SUMMARY:Wegen Corona abgesagt:Neues Programm "Chanson im Kiez" mit Chanson-Nette\, Henry Nandzik und Jens-Karsten Stoll am Pianoim "Charlottchen" am S-Bahnhof Charlottenburg
DESCRIPTION:
URL:https://chanson-nette.de/event/neues-programmchansons-im-kiez-mit-chanson-nette-henry-nandzik-und-jens-karsten-stoll-am-pianoim-charlottchen-am-s-bahnhof-charlottenburg/
LOCATION:Kartenreservierung\, noch rascher und einfacher: Es gibt einen eigenen Ticketshop auf meiner Website. Der Verkauf per Link läuft über die Kartenagentur „eventim“. Tickets für unsere Veranstaltungen im „Charlottchen“ können Sie im Shop zu jeder Zeit kaufen. Einfach die nachfolgenden Links für die jeweiligen Termine kopieren und ins Internet eingeben. Auf diese Weise gelangen Sie zum Ticketverkauf in meinem Shop. Hier ist der Link für "Süß und doof ..." am 18. November: https://www.eventim-light.com/de/a/5e6680be39e97d176ca5d135/e/631c7e0040c5b02f624aa06b/
END:VEVENT
END:VCALENDAR