BEGIN:VCALENDAR
VERSION:2.0
PRODID:-//Chanson-Nette - ECPv4.6.11.1//NONSGML v1.0//EN
CALSCALE:GREGORIAN
METHOD:PUBLISH
X-WR-CALNAME:Chanson-Nette
X-ORIGINAL-URL:https://chanson-nette.de
X-WR-CALDESC:Veranstaltungen für Chanson-Nette
BEGIN:VEVENT
DTSTART;TZID=Europe/Berlin:20211230T200000
DTEND;TZID=Europe/Berlin:20211230T200000
DTSTAMP:20260423T145328
CREATED:20210307T123913Z
LAST-MODIFIED:20241022T174448Z
UID:1418-1640894400-1640894400@chanson-nette.de
SUMMARY:Konzert im Live-Stream: Voll uff Swing mit Chanson-Nette & Band im Ballhaus Walzer Linksgestrickt
DESCRIPTION: \n
URL:https://chanson-nette.de/event/konzert-im-live-stream-voll-uff-swing-mit-chanson-nette-band-im-ballhaus-walzer-linksgestrickt/
LOCATION:„Corona wirbelt die Kulturszene durcheinander\, doch das Ballhaus Walzer Linksgestrickt reagiert und bringt sie online zu Euch nach Hause!“ heißt es auf der Website der Tanzschule. „Wir unterstützen KünstlerInnen\, Projekte und Initiativen durch Kooperationen und Vernetzung – und stellen den großen Ballsaal kostenlos für Konzerte\, Lesungen etc. zur Verfügung. Via You Tube-Live im Walzer Stream erwarten Euch im März und April 2021 spannende kulturelle Angebote. Die Mitwirkenden freuen sich über eine Spende.“ Meine drei leidenschaftlichen Voll uff Swing-Musiker könnt Ihr über folgendes Konto bei der Deutschen Bank unterstützen: Jeannette Urzendowsky\, IBAN: DE96 1007 0848 0071 2406 10\, Verwendungszweck: Voll uff Swing. Vielen Dank!!!\, Walzer Linksgestrickt ist ein wunderschönes Ballhaus im Gebäude der einstigen „C. Habel’s Brauerei“ Am Tempelhofer Berg 7d im Kreuzberger Bergmannkiez. Im großen Ballsaal mit der Galerie\, den meterhohen Rundbogenfenstern\, den Säulen und roten Samtvorhängen ganz im Stil der Zwanziger war einst das Sudhaus mit den Braukesseln. Heute kann man dort rundherum kreiseln in Swing- oder Walzerseligkeit. Vor gut 23 Jahren haben Ulrike Albrecht-Balzer und Jojakim Balzer das Walzer Linksgestrickt gegründet. Seit der Wende gehört ihr Ballhaus zu den maßgeblichen Schrittmachern\, die in Berlin die legendäre Ballhauskultur der Zwanziger Jahre wiederbeleben. Die ganze Welt soll in ihrer mehrsprachigen Tanzschule zu Hause sein. Und beim Unterricht geht es nicht nur um Schrittvermittlung. sondern auch um Ausdruck\, Lebensgefühl und Herkunft der Tänze.
CATEGORIES:Voll Uff Swing
END:VEVENT
END:VCALENDAR