BEGIN:VCALENDAR
VERSION:2.0
PRODID:-//Chanson-Nette - ECPv4.6.11.1//NONSGML v1.0//EN
CALSCALE:GREGORIAN
METHOD:PUBLISH
X-WR-CALNAME:Chanson-Nette
X-ORIGINAL-URL:https://chanson-nette.de
X-WR-CALDESC:Veranstaltungen für Chanson-Nette
BEGIN:VEVENT
DTSTART;TZID=Europe/Berlin:20211215T190000
DTEND;TZID=Europe/Berlin:20211215T190000
DTSTAMP:20260423T115342
CREATED:20211118T182054Z
LAST-MODIFIED:20211210T123814Z
UID:1592-1639594800-1639594800@chanson-nette.de
SUMMARY:Wegen Corona abgesagt: Ich hätt' getanzt heut' Nacht! -wundervolle Chansons und Gedichtedes genialen Berliner Poeten Robert Gilbert.Mit Chanson-Nette\, Henry Nandzik & Trio Scho in der Alt-Berliner Kneipe "Anna Koschke"
DESCRIPTION:
URL:https://chanson-nette.de/event/ich-haett-getanzt-heut-nacht-wundervolle-chansons-und-gedichtedes-genialen-berliner-poeten-robert-gilbert-mit-chanson-nette-henry-nandzik-trio-scho-in-der-alt-berliner-kneipe-anna-koschke/
LOCATION:Reservierung: Karten: 20 € p.P.\,Telefon 030-2835538 (Di. - Sa.\, ab 17 Uhr)\, per Mail: info@anna-koschke.de. Gerne könnt Ihr auch direkt über mich reservieren: info@chanson-nette.de\, Tel.: 0171-4178376. Oder Ihr reserviert über meinen Ticketshop bei der Karrtenagentur eventim. Einfach den nachfolgenden Link kopieren\, ins Internet eingeben und buchen: https://www.eventim-light.com/de/a/5e6680be39e97d176ca5d135/e/69a594b92a1b6440e5ba3122. Karten gibt's auch noch an der Abendkasse.\, Wie hinkommen? Ganz einfach: "Anna Koschke" findet Ihr im Herzen Berlins\, mit der S-Bahnlinie 1 (S1) bis zum Bahnhof "Oranienburger Straße"\, von dort ca. 10 Minuten Fußweg an der Neuen Synagoge Berlin (Centrum Judaicum) vorbei bis zur Einmündung der Krausnickstraße in die "Oranienburger". Dort nach links noch einige Schritte bis zur Hausnummer 11. Fürs Auto findet Ihr am besten einen Abstellplatz im "Alexianer-Parkhaus" des St. Hedwig-Krankenhauses (Einfahrt an der Krausnickstraße).
CATEGORIES:Ich hätt‘ getanzt heut‘ Nacht
END:VEVENT
END:VCALENDAR