BEGIN:VCALENDAR
VERSION:2.0
PRODID:-//Chanson-Nette - ECPv4.6.11.1//NONSGML v1.0//EN
CALSCALE:GREGORIAN
METHOD:PUBLISH
X-WR-CALNAME:Chanson-Nette
X-ORIGINAL-URL:https://chanson-nette.de
X-WR-CALDESC:Veranstaltungen für Chanson-Nette
BEGIN:VEVENT
DTSTART;TZID=Europe/Berlin:20190905T200000
DTEND;TZID=Europe/Berlin:20190905T200000
DTSTAMP:20260424T142513
CREATED:20190228T170607Z
LAST-MODIFIED:20190228T171750Z
UID:856-1567713600-1567713600@chanson-nette.de
SUMMARY:Ich hätt' getanzt heut' Nacht mit Chanson-Nette\, Henry Nandzik & Trio Scho
DESCRIPTION:
URL:https://chanson-nette.de/event/ich-haett-getanzt-heut-nacht-mit-chanson-nette-henry-nandzik-trio-scho-5/
LOCATION:Coronabedingt ist dies ein Doppelkonzert mit zwei einstündigen Sets von 18 bis 19 Uhr und 20 bis 21 Uhr. Dazwischen gibts eine Lüftungspause. Jeweils 50 Gäste dürfen in die Petruskirche. Set I\, "Mir bleiben alle treu\, wie schade!" Set II: "Warum immer nur hold und schön und rein?" Karten für wahlweise einen Set kosten 16 € p.P.\, Karten für beide Sets 24€ p.P. Wegen der begrenzten Teilnehmerzahl ist eine verbindliche Voranmeldung nötig! Die Paulus-Gemeinde reeserviert für Ihre Bestellung die entsprechende Anzahl von Sitzplätzen direkt nebeneinander. Falls Sie Karten für Personen oder Gruppen aus verschiedenen Haushalten reservieren möchten\, geben Sie bitte mehrere Bestellungen auf.
CATEGORIES:Ich hätt‘ getanzt heut‘ Nacht
END:VEVENT
END:VCALENDAR