BEGIN:VCALENDAR
VERSION:2.0
PRODID:-//Chanson-Nette - ECPv4.6.11.1//NONSGML v1.0//EN
CALSCALE:GREGORIAN
METHOD:PUBLISH
X-WR-CALNAME:Chanson-Nette
X-ORIGINAL-URL:https://chanson-nette.de
X-WR-CALDESC:Veranstaltungen für Chanson-Nette
BEGIN:VEVENT
DTSTART;TZID=Europe/Berlin:20200313T200000
DTEND;TZID=Europe/Berlin:20200313T200000
DTSTAMP:20260421T101049
CREATED:20200201T154158Z
LAST-MODIFIED:20200313T122126Z
UID:1061-1584129600-1584129600@chanson-nette.de
SUMMARY:Fällt aus wegen Corona: Ich hätt' getanzt heut' Nacht mit Chanson-Nette\, Henry Nandzik & Trio Scho
DESCRIPTION:
URL:https://chanson-nette.de/event/ich-haett-getanzt-heut-nacht-mit-chanson-nette-henry-nandzik-trio-scho-14/
LOCATION:Kartenreservierung\, noch rascher und einfacher: Es gibt einen eigenen Ticketshop auf meiner Website. Der Verkauf per Link läuft über die Kartenagentur „eventim“. Tickets für unsere Veranstaltungen im „Charlottchen“ können Sie im Shop zu jeder Zeit kaufen. Einfach die nachfolgenden Links für die jeweiligen Termine kopieren und ins Internet eingeben. Auf diese Weise gelangen Sie zum Ticketverkauf in meinem Shop. Hier ist der Link für "Süß und doof ..." am 18. November: https://www.eventim-light.com/de/a/5e6680be39e97d176ca5d135/e/631c7e0040c5b02f624aa06b/
CATEGORIES:Ich hätt‘ getanzt heut‘ Nacht
END:VEVENT
END:VCALENDAR