BEGIN:VCALENDAR
VERSION:2.0
PRODID:-//Chanson-Nette - ECPv4.6.11.1//NONSGML v1.0//EN
CALSCALE:GREGORIAN
METHOD:PUBLISH
X-WR-CALNAME:Chanson-Nette
X-ORIGINAL-URL:https://chanson-nette.de
X-WR-CALDESC:Veranstaltungen für Chanson-Nette
BEGIN:VEVENT
DTSTART;TZID=Europe/Berlin:20200126T170000
DTEND;TZID=Europe/Berlin:20200126T170000
DTSTAMP:20260423T174331
CREATED:20190921T063917Z
LAST-MODIFIED:20190921T063917Z
UID:985-1580058000-1580058000@chanson-nette.de
SUMMARY:Ich hätt' getanzt heut' Nacht mit Chanson-Nette\, Henry Nandzik & Trio Scho
DESCRIPTION:
URL:https://chanson-nette.de/event/ich-haett-getanzt-heut-nacht-mit-chanson-nette-henry-nandzik-trio-scho-10/
CATEGORIES:Ich hätt‘ getanzt heut‘ Nacht
END:VEVENT
END:VCALENDAR