BEGIN:VCALENDAR
VERSION:2.0
PRODID:-//Chanson-Nette - ECPv4.6.11.1//NONSGML v1.0//EN
CALSCALE:GREGORIAN
METHOD:PUBLISH
X-WR-CALNAME:Chanson-Nette
X-ORIGINAL-URL:https://chanson-nette.de
X-WR-CALDESC:Veranstaltungen für Chanson-Nette
BEGIN:VEVENT
DTSTART;TZID=Europe/Berlin:20200312T193000
DTEND;TZID=Europe/Berlin:20200312T193000
DTSTAMP:20260423T102133
CREATED:20191023T193134Z
LAST-MODIFIED:20200209T135902Z
UID:1045-1584041400-1584041400@chanson-nette.de
SUMMARY:Chanson meets Swing von Knef bis Waldoff - mit Chanson-Nette & Harry Ermer am Piano
DESCRIPTION:
URL:https://chanson-nette.de/event/chanson-meets-swing-von-knef-bis-waldoff-mit-chanson-nette-und-stan-juraschewski-am-piano/
CATEGORIES:Chanson Meets Swing
END:VEVENT
END:VCALENDAR