BEGIN:VCALENDAR
VERSION:2.0
PRODID:-//Chanson-Nette - ECPv4.6.11.1//NONSGML v1.0//EN
CALSCALE:GREGORIAN
METHOD:PUBLISH
X-WR-CALNAME:Chanson-Nette
X-ORIGINAL-URL:https://chanson-nette.de
X-WR-CALDESC:Veranstaltungen für Chanson-Nette
BEGIN:VEVENT
DTSTART;TZID=Europe/Berlin:20190918T193000
DTEND;TZID=Europe/Berlin:20190918T193000
DTSTAMP:20260424T124621
CREATED:20190818T111903Z
LAST-MODIFIED:20190818T111903Z
UID:903-1568835000-1568835000@chanson-nette.de
SUMMARY:Chanson meets Swing - von Knef bis Waldoff
DESCRIPTION:
URL:https://chanson-nette.de/event/chanson-meets-swing-von-knef-bis-waldoff-2/
CATEGORIES:Chanson Meets Swing
END:VEVENT
END:VCALENDAR