BEGIN:VCALENDAR
VERSION:2.0
PRODID:-//Chanson-Nette - ECPv4.6.11.1//NONSGML v1.0//EN
CALSCALE:GREGORIAN
METHOD:PUBLISH
X-WR-CALNAME:Chanson-Nette
X-ORIGINAL-URL:https://chanson-nette.de
X-WR-CALDESC:Veranstaltungen für Chanson-Nette
BEGIN:VEVENT
DTSTART;TZID=Europe/Berlin:20220416T200000
DTEND;TZID=Europe/Berlin:20220416T200000
DTSTAMP:20260424T101401
CREATED:20220316T092943Z
LAST-MODIFIED:20220327T185543Z
UID:1751-1650139200-1650139200@chanson-nette.de
SUMMARY:Chanson meets Swing im Restaurant-Theater "Charlottchen"Beswingte Chansons mit deutschen Texten - von Claire Waldoff bis Hilde Knef mit Harry Ermer am Piano
DESCRIPTION:
URL:https://chanson-nette.de/event/chanson-meets-swing-im-restaurant-theater-charlottchenmit-tobias-bartholmess-am-piano/
LOCATION:Kartenreservierung\, noch rascher und einfacher: Es gibt einen eigenen Ticketshop auf meiner Website. Der Verkauf per Link läuft über die Kartenagentur „eventim“. Tickets für unsere Veranstaltungen im „Charlottchen“ können Sie im Shop zu jeder Zeit kaufen. Einfach die nachfolgenden Links für die jeweiligen Termine kopieren und ins Internet eingeben. Auf diese Weise gelangen Sie zum Ticketverkauf in meinem Shop. Hier ist der Link für "Süß und doof ..." am 18. November: https://www.eventim-light.com/de/a/5e6680be39e97d176ca5d135/e/631c7e0040c5b02f624aa06b/
CATEGORIES:Chanson Meets Swing
END:VEVENT
END:VCALENDAR