BEGIN:VCALENDAR
VERSION:2.0
PRODID:-//Chanson-Nette - ECPv4.6.11.1//NONSGML v1.0//EN
CALSCALE:GREGORIAN
METHOD:PUBLISH
X-WR-CALNAME:Chanson-Nette
X-ORIGINAL-URL:https://chanson-nette.de
X-WR-CALDESC:Veranstaltungen für Chanson-Nette
BEGIN:VEVENT
DTSTART;TZID=Europe/Berlin:20220330T193000
DTEND;TZID=Europe/Berlin:20220330T193000
DTSTAMP:20260424T055411
CREATED:20220324T124043Z
LAST-MODIFIED:20220327T185644Z
UID:1777-1648668600-1648668600@chanson-nette.de
SUMMARY:Chanson meets Swing im gemütlichen Café LyrikBeswingte Chansons mit deutschen Texten - von Claire Waldoff bis Hilde Knef mit Harry Ermer am Piano
DESCRIPTION:
URL:https://chanson-nette.de/event/chanson-meets-swing-im-gemuetlichen-cafe-lyrik-mit-harry-ermer-am-piano/
CATEGORIES:Chanson Meets Swing
END:VEVENT
END:VCALENDAR