BEGIN:VCALENDAR
VERSION:2.0
PRODID:-//Chanson-Nette - ECPv4.6.11.1//NONSGML v1.0//EN
CALSCALE:GREGORIAN
METHOD:PUBLISH
X-WR-CALNAME:Chanson-Nette
X-ORIGINAL-URL:https://chanson-nette.de
X-WR-CALDESC:Veranstaltungen für Chanson-Nette
BEGIN:VEVENT
DTSTART;TZID=Europe/Berlin:20200307T200000
DTEND;TZID=Europe/Berlin:20200307T200000
DTSTAMP:20260423T115256
CREATED:20200201T172638Z
LAST-MODIFIED:20200302T092738Z
UID:1078-1583611200-1583611200@chanson-nette.de
SUMMARY:CD-Release Konzert "Voll uff Swing" mit Chanson-Nette & Andreas Hofschneider Quartett im Blackmore's\, Berlins Musikzimmer
DESCRIPTION: \n
URL:https://chanson-nette.de/event/cd-release-party-voll-uff-swing-mit-chanson-nette-band-im-blackmores-berlins-musikzimmer/
LOCATION:Voll uff Swing – frisch aus der Presse. Voilá\, sie ist da – unsere erste gemeinsame CD mit sechzehn deutschen Evergreens und Chansons von Friedrich Hollaender & Claire Waldoff bis Hilde Knef und vier Instrumentalhits. Komplett arrangiert im Stil der Herzschlagmusik der 20er und 30er Jahre des King of Swing Benny Goodman. Wir freuen uns!!! (Cover & Bestellinfos auf der Voll uff Swing-Programmseite\, obere Reiter: „Bühne“ oder „Voll uff Swing“ anklicken) Und nun folgt unser CD Release Konzert. Natürlich mit all den wundervoll beswingten Songs und Melodien der CD. Non-Stop geht’s los: „Berlin\, dein Gesicht hat Sommersprossen“\, „Ich mache alles mit den Beinen“\, „Mir bleiben alle treu\, wie schade“\, „Stompin’At The Savoy“\, „Ich möchte am Montag mal Sonntag haben“ ... Klar\, dass wir die Voll uff Swing-CD zur Release-Party anbieten. Preis: 15 Euro\, gerne signiert. Jump up to dance.
CATEGORIES:Voll Uff Swing
END:VEVENT
END:VCALENDAR